BEGIN:VCALENDAR
VERSION:2.0
PRODID:-//81.174.234.229//NONSGML kigkonsult.se iCalcreator 2.20//
CALSCALE:GREGORIAN
METHOD:PUBLISH
X-WR-TIMEZONE:UTC
BEGIN:VEVENT
UID:event148@TLT
DTSTAMP:20260421T103214Z
CATEGORIES:Other Events
DESCRIPTION:Seed Saving workshop\nCategory: Other Events\nLink: http://www.
 transitionllandrindod.org.uk/index.php?option=com_jem&view=event&id=148:se
 ed-saving-workshop\n
DTSTART:20170916T100000Z
DTEND:20170916T123000Z
LOCATION:Ashfield\,LD1 5PL Llandrindod Wells
SUMMARY:Seed Saving workshop
URL:http://www.transitionllandrindod.org.uk/index.php?option=com_jem&view=e
 vent&id=148:seed-saving-workshop
END:VEVENT
END:VCALENDAR
