BEGIN:VCALENDAR
VERSION:2.0
PRODID:-//81.174.234.229//NONSGML kigkonsult.se iCalcreator 2.20//
CALSCALE:GREGORIAN
METHOD:PUBLISH
X-WR-TIMEZONE:UTC
BEGIN:VEVENT
UID:event137@TLT
DTSTAMP:20260424T141654Z
CATEGORIES:TLT supported event
DESCRIPTION:Transition at the Fringe\nCategory: TLT supported event\nLink: 
 http://www.transitionllandrindod.org.uk/index.php?option=com_jem&view=even
 t&id=137:transition-at-the-fringe\n
DTSTART:20170624T114500Z
DTEND:20170624T123000Z
LOCATION:The Rock Park\,Llandrindod Wells
SUMMARY:Transition at the Fringe
URL:http://www.transitionllandrindod.org.uk/index.php?option=com_jem&view=e
 vent&id=137:transition-at-the-fringe
END:VEVENT
END:VCALENDAR
