BEGIN:VCALENDAR
VERSION:2.0
PRODID:-//81.174.234.229//NONSGML kigkonsult.se iCalcreator 2.20//
CALSCALE:GREGORIAN
METHOD:PUBLISH
X-WR-TIMEZONE:UTC
BEGIN:VEVENT
UID:event14@TLT
DTSTAMP:20260424T095925Z
CATEGORIES:TLT event
DESCRIPTION:Repair Café\nCategory: TLT event\nLink: http://www.transitionll
 andrindod.org.uk/index.php?option=com_jem&view=event&id=14:repair-cafe\n
DTSTART:20150613T140000Z
DTEND:20150613T170000Z
LOCATION:The Rock Park\,Llandrindod Wells
SUMMARY:Repair Café
URL:http://www.transitionllandrindod.org.uk/index.php?option=com_jem&view=e
 vent&id=14:repair-cafe
END:VEVENT
END:VCALENDAR
