BEGIN:VCALENDAR
VERSION:2.0
PRODID:-//81.174.234.229//NONSGML kigkonsult.se iCalcreator 2.20//
CALSCALE:GREGORIAN
METHOD:PUBLISH
X-WR-TIMEZONE:UTC
BEGIN:VEVENT
UID:event159@TLT
DTSTAMP:20260421T104425Z
CATEGORIES:TLT supported event
DESCRIPTION:Llandrindod Christmas SOUP\nCategory: TLT supported event\nLink
 : http://www.transitionllandrindod.org.uk/index.php?option=com_jem&view=ev
 ent&id=159:llandrindod-soup\n
DTSTART;VALUE=DATE:20171201
DTEND;VALUE=DATE:20171202
LOCATION:Herb Garden Café\,5 Spa Centre\, Station Crescent\,LD1 5BB Llandri
 ndod Wells
SUMMARY:Llandrindod Christmas SOUP
URL:http://www.transitionllandrindod.org.uk/index.php?option=com_jem&view=e
 vent&id=159:llandrindod-soup
END:VEVENT
END:VCALENDAR
