BEGIN:VCALENDAR
VERSION:2.0
PRODID:-//81.174.234.229//NONSGML kigkonsult.se iCalcreator 2.20//
CALSCALE:GREGORIAN
METHOD:PUBLISH
X-WR-TIMEZONE:UTC
BEGIN:VEVENT
UID:event24@TLT
DTSTAMP:20260424T142558Z
CATEGORIES:TLT event
DESCRIPTION:Repair Cafe  - Anniversary Event\nCategory: TLT event\nLink: ht
 tp://www.transitionllandrindod.org.uk/index.php?option=com_jem&view=event&
 id=24:repair-cafe-anniversary-event\n
DTSTART:20150718T140000Z
DTEND:20150718T170000Z
LOCATION:The Rock Park\,Llandrindod Wells
SUMMARY:Repair Cafe  - Anniversary Event
URL:http://www.transitionllandrindod.org.uk/index.php?option=com_jem&view=e
 vent&id=24:repair-cafe-anniversary-event
END:VEVENT
END:VCALENDAR
