BEGIN:VCALENDAR
VERSION:2.0
PRODID:-//81.174.234.229//NONSGML kigkonsult.se iCalcreator 2.20//
CALSCALE:GREGORIAN
METHOD:PUBLISH
X-WR-TIMEZONE:UTC
BEGIN:VEVENT
UID:event27@TLT
DTSTAMP:20260424T142419Z
CATEGORIES:TLT event
DESCRIPTION:Repair Café - August\nCategory: TLT event\nLink: http://www.tra
 nsitionllandrindod.org.uk/index.php?option=com_jem&view=event&id=27:repair
 -cafe-august\n
DTSTART:20150808T140000Z
DTEND:20150808T170000Z
LOCATION:The Rock Park\,Llandrindod Wells
SUMMARY:Repair Café - August
URL:http://www.transitionllandrindod.org.uk/index.php?option=com_jem&view=e
 vent&id=27:repair-cafe-august
END:VEVENT
END:VCALENDAR
