BEGIN:VCALENDAR
VERSION:2.0
PRODID:-//81.174.234.229//NONSGML kigkonsult.se iCalcreator 2.20//
CALSCALE:GREGORIAN
METHOD:PUBLISH
X-WR-TIMEZONE:UTC
BEGIN:VEVENT
UID:event41@TLT
DTSTAMP:20260424T141949Z
CATEGORIES:TLT event
DESCRIPTION:Repair Café - September\nCategory: TLT event\nLink: http://www.
 transitionllandrindod.org.uk/index.php?option=com_jem&view=event&id=41:rep
 air-cafe-september\n
DTSTART:20150919T140000Z
DTEND:20150919T170000Z
LOCATION:The Rock Park\,Llandrindod Wells
SUMMARY:Repair Café - September
URL:http://www.transitionllandrindod.org.uk/index.php?option=com_jem&view=e
 vent&id=41:repair-cafe-september
END:VEVENT
END:VCALENDAR
